BEGIN:VCALENDAR
VERSION:2.0
PRODID:-//lightbulb/agenda//NONSGML v1.0//EN
CALSCALE:GREGORIAN
BEGIN:VEVENT
UID:83e8ef518174e1eb6be4a0778d050c9d
DTSTAMP:20200123T115025
DTSTART:20190308T200000
SUMMARY:Alexej Gorlatch\, Klavier
END:VEVENT
END:VCALENDAR
    