BEGIN:VCALENDAR
VERSION:2.0
PRODID:-//lightbulb/agenda//NONSGML v1.0//EN
CALSCALE:GREGORIAN
BEGIN:VEVENT
UID:5b6ba13f79129a74a3e819b78e36b922
DTSTAMP:20210420T173247
DTSTART:20200111T200000
DTEND:20200111T220000
SUMMARY:Blandine Waldmann
END:VEVENT
END:VCALENDAR
    