BEGIN:VCALENDAR
VERSION:2.0
PRODID:-//lightbulb/agenda//NONSGML v1.0//EN
CALSCALE:GREGORIAN
BEGIN:VEVENT
UID:f0bbac6fa079f1e00b2c14c1d3c6ccf0
DTSTAMP:20210420T173300
DTSTART:20200131T200000
DTEND:20200131T220000
SUMMARY:Bones Apart
END:VEVENT
END:VCALENDAR
    