BEGIN:VCALENDAR
VERSION:2.0
PRODID:-//lightbulb/agenda//NONSGML v1.0//EN
CALSCALE:GREGORIAN
BEGIN:VEVENT
UID:1e913e1b06ead0b66e30b6867bf63549
DTSTAMP:20210420T173517
DTSTART:20191226T163000
DTEND:20191226T183000
SUMMARY:Brass-Band du Conservatoire d’Esch-sur-Alzette
END:VEVENT
END:VCALENDAR
    