BEGIN:VCALENDAR
VERSION:2.0
PRODID:-//lightbulb/agenda//NONSGML v1.0//EN
CALSCALE:GREGORIAN
BEGIN:VEVENT
UID:9e984c108157cea74c894b5cf34efc44
DTSTAMP:20200123T115030
DTSTART:20190313T200000
SUMMARY:Brass Band vum Escher Conservatoire
END:VEVENT
END:VCALENDAR
    