BEGIN:VCALENDAR
VERSION:2.0
PRODID:-//lightbulb/agenda//NONSGML v1.0//EN
CALSCALE:GREGORIAN
BEGIN:VEVENT
UID:08e6bea8e90ba87af3c9554d94db6579
DTSTAMP:20200123T113645
DTSTART:20190518T200000
SUMMARY:Concert de Gala 2019 – Ensemble à Plectre Municipal d’Esch/Alzette
END:VEVENT
END:VCALENDAR
    