BEGIN:VCALENDAR
VERSION:2.0
PRODID:-//lightbulb/agenda//NONSGML v1.0//EN
CALSCALE:GREGORIAN
BEGIN:VEVENT
UID:148510031349642de5ca0c544f31b2ef
DTSTAMP:20210420T173504
DTSTART:20191201T163000
DTEND:20191201T173000
SUMMARY:Ghibli KonzertLesung
END:VEVENT
END:VCALENDAR
    