BEGIN:VCALENDAR
VERSION:2.0
PRODID:-//lightbulb/agenda//NONSGML v1.0//EN
CALSCALE:GREGORIAN
BEGIN:VEVENT
UID:aa2a77371374094fe9e0bc1de3f94ed9
DTSTAMP:20210420T172552
DTSTART:20200301T100000
DTEND:20200301T110000
SUMMARY:D’Blechbraddler
END:VEVENT
END:VCALENDAR
    