BEGIN:VCALENDAR
VERSION:2.0
PRODID:-//lightbulb/agenda//NONSGML v1.0//EN
CALSCALE:GREGORIAN
BEGIN:VEVENT
UID:1bc0249a6412ef49b07fe6f62e6dc8de
DTSTAMP:20200123T115040
DTSTART:20190324T100000
SUMMARY:De Pierchen an de Wollef
END:VEVENT
END:VCALENDAR
    