BEGIN:VCALENDAR
VERSION:2.0
PRODID:-//lightbulb/agenda//NONSGML v1.0//EN
CALSCALE:GREGORIAN
BEGIN:VEVENT
UID:c559da2ba967eb820766939a658022c8
DTSTAMP:20200123T115035
DTSTART:20190316T200000
SUMMARY:Le département Jazz du Conservatoire d’Esch-sur-ALzette
END:VEVENT
END:VCALENDAR
    