BEGIN:VCALENDAR
VERSION:2.0
PRODID:-//lightbulb/agenda//NONSGML v1.0//EN
CALSCALE:GREGORIAN
BEGIN:VEVENT
UID:faacbcd5bf1d018912c116bf2783e9a1
DTSTAMP:20210420T172909
DTSTART:20200208T200000
DTEND:20200208T220000
SUMMARY:Le département Jazz du Conservatoire
END:VEVENT
END:VCALENDAR
    