BEGIN:VCALENDAR
VERSION:2.0
PRODID:-//lightbulb/agenda//NONSGML v1.0//EN
CALSCALE:GREGORIAN
BEGIN:VEVENT
UID:9c19a2aa1d84e04b0bd4bc888792bd1e
DTSTAMP:20200123T115018
DTSTART:20190302T200000
SUMMARY:Les Enseignants du Conservatoire d’Esch-sur-Alzette en Concert
END:VEVENT
END:VCALENDAR
    