BEGIN:VCALENDAR
VERSION:2.0
PRODID:-//lightbulb/agenda//NONSGML v1.0//EN
CALSCALE:GREGORIAN
BEGIN:VEVENT
UID:a368b0de8b91cfb3f91892fbf1ebd4b2
DTSTAMP:20200123T114329
DTSTART:20190426T200000
SUMMARY:Les Enseignants du Conservatoire d’Esch-sur-Alzette en Concert
END:VEVENT
END:VCALENDAR
    