BEGIN:VCALENDAR
VERSION:2.0
PRODID:-//lightbulb/agenda//NONSGML v1.0//EN
CALSCALE:GREGORIAN
BEGIN:VEVENT
UID:155fa09596c7e18e50b58eb7e0c6ccb4
DTSTAMP:20210420T173256
DTSTART:20200125T200000
DTEND:20200125T220000
SUMMARY:Les Enseignants du Conservatoire
END:VEVENT
END:VCALENDAR
    