BEGIN:VCALENDAR
VERSION:2.0
PRODID:-//lightbulb/agenda//NONSGML v1.0//EN
CALSCALE:GREGORIAN
BEGIN:VEVENT
UID:645098b086d2f9e1e0e939c27f9f2d6f
DTSTAMP:20210420T173508
DTSTART:20191208T113000
DTEND:20191208T123000
SUMMARY:Mais quand passera donc Saint-Nicolas?
END:VEVENT
END:VCALENDAR
    