BEGIN:VCALENDAR
VERSION:2.0
PRODID:-//lightbulb/agenda//NONSGML v1.0//EN
CALSCALE:GREGORIAN
BEGIN:VEVENT
UID:069654d5ce089c13f642d19f09a3d1c0
DTSTAMP:20210420T172556
DTSTART:20200306T200000
DTEND:20200306T220000
SUMMARY:Nadège Rochat & Rafael Aguirre
END:VEVENT
END:VCALENDAR
    