BEGIN:VCALENDAR
VERSION:2.0
PRODID:-//lightbulb/agenda//NONSGML v1.0//EN
CALSCALE:GREGORIAN
BEGIN:VEVENT
UID:09b15d48a1514d8209b192a8b8f34e48
DTSTAMP:20210420T173513
DTSTART:20191220T200000
DTEND:20191220T220000
SUMMARY:Percussion in Concert
END:VEVENT
END:VCALENDAR
    