BEGIN:VCALENDAR
VERSION:2.0
PRODID:-//lightbulb/agenda//NONSGML v1.0//EN
CALSCALE:GREGORIAN
BEGIN:VEVENT
UID:64f1f27bf1b4ec22924fd0acb550c235
DTSTAMP:20200123T113636
DTSTART:20190511T100000
DTEND:20190511T160000
SUMMARY:Porte ouverte du Conservatoire de Musique de la Ville d’Esch-sur-Alzette
END:VEVENT
END:VCALENDAR
    