BEGIN:VCALENDAR
VERSION:2.0
PRODID:-//lightbulb/agenda//NONSGML v1.0//EN
CALSCALE:GREGORIAN
BEGIN:VEVENT
UID:f542eae1949358e25d8bfeefe5b199f1
DTSTAMP:20210420T173251
DTSTART:20200117T200000
DTEND:20200117T220000
SUMMARY:Preisträger des Streichquartett-Wettbewerbs Banff 2019
END:VEVENT
END:VCALENDAR
    