BEGIN:VCALENDAR
VERSION:2.0
PRODID:-//lightbulb/agenda//NONSGML v1.0//EN
CALSCALE:GREGORIAN
BEGIN:VEVENT
UID:f3173935ed8ac4bf073c1bcd63171f8a
DTSTAMP:20200123T115047
DTSTART:20190330T200000
SUMMARY:Salaputia Brass
END:VEVENT
END:VCALENDAR
    